BEGIN:VCALENDAR
VERSION:2.0
PRODID:-//Montana Federation of Garden Clubs - ECPv6.15.20//NONSGML v1.0//EN
CALSCALE:GREGORIAN
METHOD:PUBLISH
X-WR-CALNAME:Montana Federation of Garden Clubs
X-ORIGINAL-URL:https://mtfgc.org
X-WR-CALDESC:Events for Montana Federation of Garden Clubs
REFRESH-INTERVAL;VALUE=DURATION:PT1H
X-Robots-Tag:noindex
X-PUBLISHED-TTL:PT1H
BEGIN:VTIMEZONE
TZID:America/Denver
BEGIN:DAYLIGHT
TZOFFSETFROM:-0700
TZOFFSETTO:-0600
TZNAME:MDT
DTSTART:20250309T090000
END:DAYLIGHT
BEGIN:STANDARD
TZOFFSETFROM:-0600
TZOFFSETTO:-0700
TZNAME:MST
DTSTART:20251102T080000
END:STANDARD
BEGIN:DAYLIGHT
TZOFFSETFROM:-0700
TZOFFSETTO:-0600
TZNAME:MDT
DTSTART:20260308T090000
END:DAYLIGHT
BEGIN:STANDARD
TZOFFSETFROM:-0600
TZOFFSETTO:-0700
TZNAME:MST
DTSTART:20261101T080000
END:STANDARD
BEGIN:DAYLIGHT
TZOFFSETFROM:-0700
TZOFFSETTO:-0600
TZNAME:MDT
DTSTART:20270314T090000
END:DAYLIGHT
BEGIN:STANDARD
TZOFFSETFROM:-0600
TZOFFSETTO:-0700
TZNAME:MST
DTSTART:20271107T080000
END:STANDARD
END:VTIMEZONE
BEGIN:VEVENT
DTSTART;VALUE=DATE:20260605
DTEND;VALUE=DATE:20260606
DTSTAMP:20260425T055514
CREATED:20260404T005724Z
LAST-MODIFIED:20260404T005844Z
UID:8004-1780617600-1780703999@mtfgc.org
SUMMARY:Patriotic apps and picture due
DESCRIPTION:
URL:https://mtfgc.org/calendar/mfgc-awards-applications-due/
END:VEVENT
BEGIN:VEVENT
DTSTART;VALUE=DATE:20260504
DTEND;VALUE=DATE:20260507
DTSTAMP:20260425T055514
CREATED:20250812T232900Z
LAST-MODIFIED:20250813T050441Z
UID:7618-1777852800-1778111999@mtfgc.org
SUMMARY:NGC 2026 Convention - ST Louis Missouri
DESCRIPTION:  \n 
URL:https://mtfgc.org/calendar/ngc-2026-convention-st-louis-missouri/
END:VEVENT
BEGIN:VEVENT
DTSTART;VALUE=DATE:20260415
DTEND;VALUE=DATE:20260416
DTSTAMP:20260425T055514
CREATED:20260404T010053Z
LAST-MODIFIED:20260404T010053Z
UID:8008-1776211200-1776297599@mtfgc.org
SUMMARY:MFGC Award Applications Due
DESCRIPTION:
URL:https://mtfgc.org/calendar/mfgc-award-applications-due/
END:VEVENT
BEGIN:VEVENT
DTSTART;TZID=America/Denver:20260227T090000
DTEND;TZID=America/Denver:20260227T120000
DTSTAMP:20260425T055514
CREATED:20260106T224655Z
LAST-MODIFIED:20260106T224655Z
UID:7952-1772182800-1772193600@mtfgc.org
SUMMARY:Board Meeting
DESCRIPTION:Zoom information to follow
URL:https://mtfgc.org/calendar/board-meeting-2/
LOCATION:Via Zoom
END:VEVENT
END:VCALENDAR